BEGIN:VCALENDAR
VERSION:2.0
PRODID:-//ChamberMaster//Event Calendar 2.0//EN
METHOD:PUBLISH
X-PUBLISHED-TTL:P3D
REFRESH-INTERVAL:P3D
CALSCALE:GREGORIAN
BEGIN:VEVENT
DTSTART:20170822T170000Z
DTEND:20170822T180000Z
X-MICROSOFT-CDO-ALLDAYEVENT:FALSE
SUMMARY:Ribbon Cutting for The Overlook Apartment Homes
DESCRIPTION:A ribbon cutting celebration will be held for The Overlook Apartment Homes.  Everyone is invited to come see Blairsville's newest premier residential community\, located at the heart of beautiful north Georgia mountains.
X-ALT-DESC;FMTTYPE=text/html:<p style="margin: 0px 0px 11px\;"><font color="#000000" face="Calibri" size="3">A ribbon cutting celebration will be held for The Overlook Apartment Homes.</font><span style="margin: 0px\;"><font color="#000000" face="Calibri" size="3">&nbsp\; </font></span><font color="#000000" face="Calibri" size="3">Everyone is invited to come see Blairsville&rsquo\;s newest premier residential community\, located at the heart of beautiful north Georgia mountains.</font></p>\n
LOCATION:110 Overlook St Blairsville\, GA 30512
UID:e.256.75277
SEQUENCE:3
DTSTAMP:20260419T211023Z
URL:https://members.visitblairsvillega.com/events/details/ribbon-cutting-for-the-overlook-apartment-homes-75277
END:VEVENT

END:VCALENDAR
