BEGIN:VCALENDAR
VERSION:2.0
PRODID:-//ChamberMaster//Event Calendar 2.0//EN
METHOD:PUBLISH
X-PUBLISHED-TTL:P3D
REFRESH-INTERVAL:P3D
CALSCALE:GREGORIAN
BEGIN:VEVENT
DTSTART:20151106T210000Z
DTEND:20151106T220000Z
X-MICROSOFT-CDO-ALLDAYEVENT:FALSE
SUMMARY:Ribbon Cutting for The Shabby Peacock
DESCRIPTION:The Shabby Peacock has a brand new owner\, Kathy White\, and a new look to go with it.  We're celebrating this exciting news with a ribbon cutting at her shop.  There will be a raffle drawing\, so be sure to bring your business cards. Kathy will be giving away a $50 Shabby Peacock gift certificate to the winner.
X-ALT-DESC;FMTTYPE=text/html:The Shabby Peacock has a brand new owner\, Kathy White\, and a new look to go with it.&nbsp\; We&#39\;re celebrating this exciting news with a ribbon cutting at&nbsp\;her shop.&nbsp\; There will be a raffle drawing\, so be sure to bring your business cards. Kathy will be&nbsp\;giving away&nbsp\;a $50 Shabby Peacock gift certificate to the winner.
LOCATION:49D Blue Ridge Street Blairsville\, GA 30512
UID:e.256.44272
SEQUENCE:3
DTSTAMP:20260423T085643Z
URL:https://members.visitblairsvillega.com/events/details/ribbon-cutting-for-the-shabby-peacock-11-06-2015-44272
END:VEVENT

END:VCALENDAR
