BEGIN:VCALENDAR
VERSION:2.0
PRODID:-//ChamberMaster//Event Calendar 2.0//EN
METHOD:PUBLISH
X-PUBLISHED-TTL:P3D
REFRESH-INTERVAL:P3D
CALSCALE:GREGORIAN
BEGIN:VEVENT
DTSTART:20170427T170000Z
DTEND:20170427T180000Z
X-MICROSOFT-CDO-ALLDAYEVENT:FALSE
SUMMARY:Ribbon Cutting for The Sweet Spot
DESCRIPTION:Everyone is invited to attend a ribbon cutting for The Sweet Spot ice cream parlor located at 1323 Murphy Hwy Ste. #5 in Blairsville.  The celebration will take place on Thursday\, April 27 at 1 p.m.
X-ALT-DESC;FMTTYPE=text/html:Everyone is invited to attend a ribbon cutting for The Sweet Spot ice cream parlor located at&nbsp\;1323 Murphy Hwy Ste. #5 in Blairsville.&nbsp\; The celebration will take place on Thursday\, April 27 at 1 p.m.<br />\n&nbsp\;
LOCATION:1323 Murphy Hwy Ste. #5 Blairsville\, GA 30512
UID:e.256.66543
SEQUENCE:3
DTSTAMP:20260420T035026Z
URL:https://members.visitblairsvillega.com/events/details/ribbon-cutting-for-the-sweet-spot-66543
END:VEVENT

END:VCALENDAR
