BEGIN:VCALENDAR
VERSION:2.0
PRODID:-//ChamberMaster//Event Calendar 2.0//EN
METHOD:PUBLISH
X-PUBLISHED-TTL:P3D
REFRESH-INTERVAL:P3D
CALSCALE:GREGORIAN
BEGIN:VEVENT
DTSTART:20150910T210000Z
DTEND:20150910T230000Z
X-MICROSOFT-CDO-ALLDAYEVENT:FALSE
SUMMARY:Ribbon Cutting for the UCS Fine Arts Center
DESCRIPTION:The community is invited to the Grand Opening of the Union County Schools Fine Arts Center.  After the ribbon cutting\, tours will be take place until 6:15 p.m.  At 6:30 p.m.\, an inaugural concert by the High School Band\, Chorus\, and Drama team will be available for all to enjoy.
X-ALT-DESC;FMTTYPE=text/html:The community is invited to the Grand Opening of the Union County Schools&nbsp\;Fine Arts Center.&nbsp\; After the ribbon cutting\, tours will be take place until 6:15 p.m.&nbsp\; At 6:30 p.m.\, an inaugural concert by the High School Band\, Chorus\, and Drama team will be available for all to enjoy.
LOCATION:926 Panther Overlook Blairsville\, Ga 30512
UID:e.256.43914
SEQUENCE:3
DTSTAMP:20260423T134429Z
URL:https://members.visitblairsvillega.com/events/details/ribbon-cutting-for-the-ucs-fine-arts-center-09-10-2015-43914
END:VEVENT

END:VCALENDAR
