BEGIN:VCALENDAR
VERSION:2.0
PRODID:-//ChamberMaster//Event Calendar 2.0//EN
METHOD:PUBLISH
X-PUBLISHED-TTL:P3D
REFRESH-INTERVAL:P3D
CALSCALE:GREGORIAN
BEGIN:VEVENT
DTSTART:20151023T203000Z
DTEND:20151023T213000Z
X-MICROSOFT-CDO-ALLDAYEVENT:FALSE
SUMMARY:Ribbon Cutting for The Wine Shoppe
DESCRIPTION:Another exciting business is on "The Square" -- The Wine Shoppe!  To celebrate this new location\, we're having a ribbon cutting and everyone is invited!  The event will include some light food and beverage and a business card raffle drawing for a "surprise gift." Also on this day\, all Rotary Clubs want to bring awareness to their mission to "End Polio Now."  Bill McGlamery\, UC Rotary President and shop owner\, will welcome any donations offered during this event for this humanitarian cause.  For more information about "End Polio Now" got to www.Endpolio.org
X-ALT-DESC;FMTTYPE=text/html:Another exciting business is on &quot\;The Square&quot\; -- The Wine Shoppe!&nbsp\; To celebrate&nbsp\;this new location\, we&#39\;re having a ribbon cutting and everyone is invited!&nbsp\; The event will include some light food and beverage and a business card raffle drawing for a &quot\;surprise gift.&quot\; Also on this day\, all Rotary Clubs want to bring awareness to their mission to &quot\;End Polio Now.&quot\;&nbsp\; Bill McGlamery\, UC Rotary President and shop owner\, will welcome any donations offered during this event for this humanitarian&nbsp\;cause.&nbsp\; For more information about &quot\;End Polio Now&quot\; got to <a href="http://www.Endpolio.org">www.Endpolio.org</a>
LOCATION:The Wine Shoppe 6 Town Square\, Unit A Blairsville\, GA 30512
UID:e.256.44270
SEQUENCE:3
DTSTAMP:20260423T103141Z
URL:https://members.visitblairsvillega.com/events/details/ribbon-cutting-for-the-wine-shoppe-10-23-2015-44270
END:VEVENT

END:VCALENDAR
