BEGIN:VCALENDAR
VERSION:2.0
PRODID:-//ChamberMaster//Event Calendar 2.0//EN
METHOD:PUBLISH
X-PUBLISHED-TTL:P3D
REFRESH-INTERVAL:P3D
CALSCALE:GREGORIAN
BEGIN:VEVENT
DTSTART:20161007T203000Z
DTEND:20161007T213000Z
X-MICROSOFT-CDO-ALLDAYEVENT:FALSE
SUMMARY:Ribbon Cutting for Tractor Supply - Blue Ridge
DESCRIPTION:A ribbon cutting will be held for the new Tractor Supply located in Blue Ridge!
X-ALT-DESC;FMTTYPE=text/html:A ribbon cutting will be held for the new Tractor Supply located in Blue Ridge!
LOCATION:97 High Park Drive Blue Ridge\, GA 30513
UID:e.256.58141
SEQUENCE:3
DTSTAMP:20260420T144423Z
URL:https://members.visitblairsvillega.com/events/details/ribbon-cutting-for-tractor-supply-blue-ridge-58141
END:VEVENT

END:VCALENDAR
