BEGIN:VCALENDAR
VERSION:2.0
PRODID:-//ChamberMaster//Event Calendar 2.0//EN
METHOD:PUBLISH
X-PUBLISHED-TTL:P3D
REFRESH-INTERVAL:P3D
CALSCALE:GREGORIAN
BEGIN:VEVENT
DTSTART:20160502T150000Z
DTEND:20160502T160000Z
X-MICROSOFT-CDO-ALLDAYEVENT:FALSE
SUMMARY:Ribbon Cutting for Tropical Beach Tanning Salon
DESCRIPTION:The Tropical Beach Tanning Salon is will be hosting a ribbon cutting at their new location in Blairsville.  Come and meet Louann and see the new and exciting things available in her salon and be sure to enter into the drawing for a free "Level 1 Spray Tanning!"  Curves of Blairsville will be having their ribbon cutting along with Tropical Beach Tanning Salon as they become new neighbors!
X-ALT-DESC;FMTTYPE=text/html:The Tropical Beach Tanning Salon is will be hosting a ribbon cutting at their new location in Blairsville.&nbsp\; Come and meet Louann and see the new and exciting things available in her salon and be sure to enter into the drawing for a free &quot\;Level 1 Spray Tanning!&quot\;&nbsp\;&nbsp\;Curves of Blairsville will be having their ribbon cutting along with Tropical Beach Tanning Salon as they become new neighbors!
LOCATION:266 Shoe Factory Road Blairsville\, GA 30512
UID:e.256.48281
SEQUENCE:3
DTSTAMP:20260420T223015Z
URL:https://members.visitblairsvillega.com/events/details/ribbon-cutting-for-tropical-beach-tanning-salon-05-02-2016-48281
END:VEVENT

END:VCALENDAR
