BEGIN:VCALENDAR
VERSION:2.0
PRODID:-//ChamberMaster//Event Calendar 2.0//EN
METHOD:PUBLISH
X-PUBLISHED-TTL:P3D
REFRESH-INTERVAL:P3D
CALSCALE:GREGORIAN
BEGIN:VEVENT
DTSTART:20160218T190000Z
DTEND:20160218T200000Z
X-MICROSOFT-CDO-ALLDAYEVENT:FALSE
SUMMARY:Ribbon Cutting for Tupperware - Lori Allen\, Independent Consultant
DESCRIPTION:Lori Allen\, an independent consultant with Tupperware will be cutting a ribbon at the Union County Community Center on Thursday\, February 18 at 2 p.m.  Love free stuff??  Door prizes and a free gift for all attendees.  She's also having a $10 "Cash-n-Carry" promotion.  Come on out and see all the great things she has to offer . . . This isn't your "Mother's Tupperware!"
X-ALT-DESC;FMTTYPE=text/html:Lori Allen\, an independent consultant&nbsp\;with Tupperware will be cutting a ribbon at the Union County Community Center on Thursday\, February 18 at 2 p.m.&nbsp\; Love free stuff??&nbsp\; Door prizes and a free gift for all&nbsp\;attendees.&nbsp\; She&#39\;s also having a $10 &quot\;Cash-n-Carry&quot\; promotion.&nbsp\; Come on out and see all the great things she has to offer . . . This isn&#39\;t your &quot\;Mother&#39\;s Tupperware!&quot\;
LOCATION:Blairsville-Union County Chamber of Commerce 129 Union County Recreation Road Blairsville\, GA 30512
UID:e.256.48295
SEQUENCE:3
DTSTAMP:20260421T040504Z
URL:https://members.visitblairsvillega.com/events/details/ribbon-cutting-for-tupperware-lori-allen-independent-consultant-02-18-2016-48295
END:VEVENT

END:VCALENDAR
