BEGIN:VCALENDAR
VERSION:2.0
PRODID:-//ChamberMaster//Event Calendar 2.0//EN
METHOD:PUBLISH
X-PUBLISHED-TTL:P3D
REFRESH-INTERVAL:P3D
CALSCALE:GREGORIAN
BEGIN:VEVENT
DTSTART:20141017T150000Z
DTEND:20141017T160000Z
X-MICROSOFT-CDO-ALLDAYEVENT:FALSE
SUMMARY:Ribbon Cutting for Twin Creeks Bed & Breakfast
DESCRIPTION:You're Invited!\n\nRibbon Cutting for Twin Creeks Bed & Breakfast on Friday\, October 17\, 2014 at 11:00am. Twin Creeks Bed & Breakfast is located at 834 Collins Road ( follow 19/129S for about 6 miles\, turn left onto Collins Road and continue about 1 mile ) Look for a red metal roof. Come out and meet John and Donna Zammetti\, Innkeepers of this beautiful bed & breakfast on 15 acres.
X-ALT-DESC;FMTTYPE=text/html:You&#39\;re Invited!<br />\nRibbon Cutting for Twin Creeks Bed &amp\; Breakfast on Friday\, October 17\, 2014 at 11:00am.&nbsp\;Twin Creeks Bed &amp\; Breakfast is&nbsp\;located at 834 Collins Road ( follow 19/129S for about 6 miles\, turn left onto Collins Road and continue about 1 mile ) Look for a&nbsp\;red metal roof.&nbsp\;Come out and meet John and Donna&nbsp\;Zammetti\, Innkeepers of this beautiful bed &amp\; breakfast&nbsp\;on 15 acres.
LOCATION:Twin Creeks Bed & Breakfast 834 Collins Road Blairsville
UID:e.256.27522
SEQUENCE:3
DTSTAMP:20260424T045449Z
URL:https://members.visitblairsvillega.com/events/details/ribbon-cutting-for-twin-creeks-bed-breakfast-10-17-2014-27522
END:VEVENT

END:VCALENDAR
