BEGIN:VCALENDAR
VERSION:2.0
PRODID:-//ChamberMaster//Event Calendar 2.0//EN
METHOD:PUBLISH
X-PUBLISHED-TTL:P3D
REFRESH-INTERVAL:P3D
CALSCALE:GREGORIAN
BEGIN:VEVENT
DTSTART:20160802T150000Z
DTEND:20160802T160000Z
X-MICROSOFT-CDO-ALLDAYEVENT:FALSE
SUMMARY:Ribbon Cutting for Union County Family Connection
DESCRIPTION:Join the outstanding volunteers and staff from the Union County Family Connection with a ribbon cutting on Tuesday\, August 2 at 11 a.m.  The event will be held at the Board of Education offices located at 124 Hughes Street in Blairsville.
X-ALT-DESC;FMTTYPE=text/html:Join the outstanding volunteers and staff from the Union County Family Connection with a ribbon cutting on Tuesday\, August 2 at 11 a.m.&nbsp\; The event will be held at the Board of Education offices located at 124 Hughes Street in Blairsville.
LOCATION:Union County Board of Education 124 Hughes Street Blairsville\, GA 30512
UID:e.256.52285
SEQUENCE:3
DTSTAMP:20260420T165009Z
URL:https://members.visitblairsvillega.com/events/details/ribbon-cutting-for-union-county-family-connection-08-02-2016-52285
END:VEVENT

END:VCALENDAR
