BEGIN:VCALENDAR
VERSION:2.0
PRODID:-//ChamberMaster//Event Calendar 2.0//EN
METHOD:PUBLISH
X-PUBLISHED-TTL:P3D
REFRESH-INTERVAL:P3D
CALSCALE:GREGORIAN
BEGIN:VEVENT
DTSTART:20170209T200000Z
DTEND:20170209T230000Z
X-MICROSOFT-CDO-ALLDAYEVENT:FALSE
SUMMARY:Ribbon Cutting for Union General ENT Solutions
DESCRIPTION:Everyone is invited to meet Dr. Carl Nechtman and his staff at Union General ENT Solutions and learn about the services he has available.  Refreshments will be available.
X-ALT-DESC;FMTTYPE=text/html:Everyone is invited to meet Dr. Carl Nechtman and his staff at Union General ENT Solutions and learn about the services he has available. &nbsp\;Refreshments will be available.
LOCATION:Union General ENT Solutions 11 Hospital Way\, Ste. A Blairsville\, GA 30512
UID:e.256.62168
SEQUENCE:3
DTSTAMP:20260420T055734Z
URL:https://members.visitblairsvillega.com/events/details/ribbon-cutting-for-union-general-ent-solutions-62168
END:VEVENT

END:VCALENDAR
