BEGIN:VCALENDAR
VERSION:2.0
PRODID:-//ChamberMaster//Event Calendar 2.0//EN
METHOD:PUBLISH
X-PUBLISHED-TTL:P3D
REFRESH-INTERVAL:P3D
CALSCALE:GREGORIAN
BEGIN:VEVENT
DTSTART:20150115T180000Z
DTEND:20150115T190000Z
X-MICROSOFT-CDO-ALLDAYEVENT:FALSE
SUMMARY:Ribbon Cutting for Union General Hospital - Cardio-Pulmonary Rehabilitation Service
DESCRIPTION:Union General Hospital\, Inc is pleased to announce the opening of their new Cardio-Pulmonary Rehabilitation Service\, located within Union General Hospital on the 2nd Floor\, inside the Respiratory Therapy area.
X-ALT-DESC;FMTTYPE=text/html:Union General Hospital\, Inc is pleased to announce the opening of their new Cardio-Pulmonary Rehabilitation Service\, located within Union General Hospital on the 2nd Floor\, inside the Respiratory Therapy area.
LOCATION:Union General Hospital\, Inc. 2nd Floor 35 Hospital Road Blairsville\, GA 30512
UID:e.256.33606
SEQUENCE:3
DTSTAMP:20260424T020756Z
URL:https://members.visitblairsvillega.com/events/details/ribbon-cutting-for-union-general-hospital-cardio-pulmonary-rehabilitation-service-01-15-2015-33606
END:VEVENT

END:VCALENDAR
