BEGIN:VCALENDAR
VERSION:2.0
PRODID:-//ChamberMaster//Event Calendar 2.0//EN
METHOD:PUBLISH
X-PUBLISHED-TTL:P3D
REFRESH-INTERVAL:P3D
CALSCALE:GREGORIAN
BEGIN:VEVENT
DTSTART:20170811T170000Z
DTEND:20170811T200000Z
X-MICROSOFT-CDO-ALLDAYEVENT:FALSE
SUMMARY:Ribbon Cutting for Union General Orthopedics
DESCRIPTION:
X-ALT-DESC;FMTTYPE=text/html:
LOCATION:Union General Orthopedics Union General Hospital 35 Hospital Rd.\, 2nd Floor Blairsville\, GA 30512
UID:e.256.75618
SEQUENCE:3
DTSTAMP:20260419T195005Z
URL:https://members.visitblairsvillega.com/events/details/ribbon-cutting-for-union-general-orthopedics-75618
END:VEVENT

END:VCALENDAR
