BEGIN:VCALENDAR
VERSION:2.0
PRODID:-//ChamberMaster//Event Calendar 2.0//EN
METHOD:PUBLISH
X-PUBLISHED-TTL:P3D
REFRESH-INTERVAL:P3D
CALSCALE:GREGORIAN
BEGIN:VEVENT
DTSTART:20160415T153000Z
DTEND:20160415T163000Z
X-MICROSOFT-CDO-ALLDAYEVENT:FALSE
SUMMARY:Ribbon Cutting for Unity of Blairsville
DESCRIPTION:We are delighted to announce that Unity of Blairsville will be holding a ribbon cutting to celebrate the official opening of their church.
X-ALT-DESC;FMTTYPE=text/html:We are delighted to announce that Unity of Blairsville will be holding a ribbon cutting to celebrate the official opening of their church.
LOCATION:Unity of Blairsville 298 School Circle Blairsville\, GA 30512
UID:e.256.50537
SEQUENCE:3
DTSTAMP:20260421T022527Z
URL:https://members.visitblairsvillega.com/events/details/ribbon-cutting-for-unity-of-blairsville-04-15-2016-50537
END:VEVENT

END:VCALENDAR
