BEGIN:VCALENDAR
VERSION:2.0
PRODID:-//ChamberMaster//Event Calendar 2.0//EN
METHOD:PUBLISH
X-PUBLISHED-TTL:P3D
REFRESH-INTERVAL:P3D
CALSCALE:GREGORIAN
BEGIN:VEVENT
DTSTART:20151202T210000Z
DTEND:20151202T220000Z
X-MICROSOFT-CDO-ALLDAYEVENT:FALSE
SUMMARY:Ribbon Cutting for University of North Georgia - Blue Ridge Campus
DESCRIPTION:The University of North Georgia now has a campus in Blue Ridge!  Everyone is invited to attend a ribbon cutting celebration at the Blairsville-Union County Chamber of Commerce.  Refreshments will be served.
X-ALT-DESC;FMTTYPE=text/html:The University of North Georgia now has a campus in Blue Ridge!&nbsp\; Everyone is invited to attend&nbsp\;a ribbon cutting&nbsp\;celebration at the Blairsville-Union County Chamber of Commerce.&nbsp\; Refreshments will be served.
LOCATION:Blairsville-Union County Chamber of Commerce 129 Union County Recreation Road Blairsville\, GA 30512
UID:e.256.44331
SEQUENCE:3
DTSTAMP:20260421T074636Z
URL:https://members.visitblairsvillega.com/events/details/ribbon-cutting-for-university-of-north-georgia-blue-ridge-campus-12-02-2015-44331
END:VEVENT

END:VCALENDAR
