BEGIN:VCALENDAR
VERSION:2.0
PRODID:-//ChamberMaster//Event Calendar 2.0//EN
METHOD:PUBLISH
X-PUBLISHED-TTL:P3D
REFRESH-INTERVAL:P3D
CALSCALE:GREGORIAN
BEGIN:VEVENT
DTSTART:20161117T180000Z
DTEND:20161117T190000Z
X-MICROSOFT-CDO-ALLDAYEVENT:FALSE
SUMMARY:Ribbon Cutting for uTHRiV by Beth Dodds
DESCRIPTION:The Blairsville-Union County Chamber of Commerce is excited to host a ribbon cutting for uThriV. Brand Partner\, Beth Dodds\, offers one-of-a-kind products that help everyone balance their nutrient deficiencies and more.
X-ALT-DESC;FMTTYPE=text/html:The Blairsville-Union County Chamber of Commerce is excited to host a ribbon cutting for&nbsp\;uThriV.&nbsp\;Brand Partner\,&nbsp\;Beth Dodds\, offers&nbsp\;one-of-a-kind products that help everyone balance their nutrient deficiencies and more.
LOCATION:Blairsville-Union County Chamber of Commerce 129 Union County Recreation Road Blairsville\, GA 30512
UID:e.256.58142
SEQUENCE:3
DTSTAMP:20260420T111758Z
URL:https://members.visitblairsvillega.com/events/details/ribbon-cutting-for-uthriv-by-beth-dodds-58142
END:VEVENT

END:VCALENDAR
