BEGIN:VCALENDAR
VERSION:2.0
PRODID:-//ChamberMaster//Event Calendar 2.0//EN
METHOD:PUBLISH
X-PUBLISHED-TTL:P3D
REFRESH-INTERVAL:P3D
CALSCALE:GREGORIAN
BEGIN:VEVENT
DTSTART:20140919T160000Z
DTEND:20140919T170000Z
X-MICROSOFT-CDO-ALLDAYEVENT:FALSE
SUMMARY:Ribbon Cutting for Victoria's Antique Mall
DESCRIPTION:You're Invited! \n\nRibbon Cutting for Victoria's Antique Mall on Friday\, September 19\, 2014 at 12noon. Victoria's Antique Mall is located at 3196 Hwy. 515E\, 2.5 miles east of Blairsville. Come out and meet manager\, Jessica Dervin and see all of great shops located at Victoria's. Bring your business cards -\n\nDoor Prize - 4 $25 gift certificates!\n\nwww.victoriascenter.com\n\n\n	Great shopping\n	Free parking\n	Friendly atmosphere\n	Special events\n	Easy access\n	Located next to Blairsville Cinema and Galaxy Bowling
X-ALT-DESC;FMTTYPE=text/html:You&#39\;re Invited!&nbsp\;<br />\nRibbon Cutting for&nbsp\;Victoria&#39\;s Antique Mall&nbsp\;on Friday\, September 19\, 2014 at 12noon. Victoria&#39\;s Antique Mall is located at 3196 Hwy. 515E\, 2.5 miles east of Blairsville. Come out and meet manager\,&nbsp\;Jessica Dervin&nbsp\;and see all of great shops located at Victoria&#39\;s. Bring your business cards -<br />\nDoor Prize&nbsp\;- 4 $25 gift certificates!<br />\n<strong><u>www.victoriascenter.com</u></strong>\n\n<ul>\n	<li align="left">Great shopping</li>\n	<li align="left">Free parking</li>\n	<li align="left">Friendly atmosphere</li>\n	<li align="left">Special events</li>\n	<li align="left">Easy access</li>\n	<li align="left">Located next to Blairsville Cinema and Galaxy Bowling</li>\n</ul>\n
LOCATION:Viictoria's Antique Mall 3196 Hwy 515E 2.5 miles east of Blairsville
UID:e.256.26235
SEQUENCE:3
DTSTAMP:20260424T063333Z
URL:https://members.visitblairsvillega.com/events/details/ribbon-cutting-for-victoria-s-antique-mall-09-19-2014-26235
END:VEVENT

END:VCALENDAR
