BEGIN:VCALENDAR
VERSION:2.0
PRODID:-//ChamberMaster//Event Calendar 2.0//EN
METHOD:PUBLISH
X-PUBLISHED-TTL:P3D
REFRESH-INTERVAL:P3D
CALSCALE:GREGORIAN
BEGIN:VEVENT
DTSTART:20160511T150000Z
DTEND:20160511T160000Z
X-MICROSOFT-CDO-ALLDAYEVENT:FALSE
SUMMARY:Ribbon Cutting for Vietnam Veterans Memorial Bridge Dedication
DESCRIPTION:The Vietnam Veterans are planning a bridge dedication. The bridge is the Ivy Log Creek Bridge\; it is being renamed the Vietnam Veterans Memorial Bridge.
X-ALT-DESC;FMTTYPE=text/html:<span style="font-family: &quot\;Calibri&quot\;\,&quot\;sans-serif&quot\;\; font-size: 11pt\; mso-fareast-font-family: Calibri\; mso-fareast-theme-font: minor-latin\; mso-bidi-font-family: &quot\;Times New Roman&quot\;\; mso-ansi-language: EN-US\; mso-fareast-language: EN-US\; mso-bidi-language: AR-SA\;"><font color="#000000">The Vietnam Veterans are planning a bridge dedication. The bridge is the Ivy Log Creek Bridge\; it is being renamed the Vietnam Veterans Memorial Bridge.&nbsp\; </font></span>
LOCATION:
UID:e.256.50906
SEQUENCE:3
DTSTAMP:20260421T002857Z
URL:https://members.visitblairsvillega.com/events/details/ribbon-cutting-for-vietnam-veterans-memorial-bridge-dedication-05-11-2016-50906
END:VEVENT

END:VCALENDAR
