BEGIN:VCALENDAR
VERSION:2.0
PRODID:-//ChamberMaster//Event Calendar 2.0//EN
METHOD:PUBLISH
X-PUBLISHED-TTL:P3D
REFRESH-INTERVAL:P3D
CALSCALE:GREGORIAN
BEGIN:VEVENT
DTSTART:20150728T150000Z
DTEND:20150728T160000Z
X-MICROSOFT-CDO-ALLDAYEVENT:FALSE
SUMMARY:Ribbon Cutting for Visiting Angels
DESCRIPTION:Come and join us for a ribbon cutting as we welcome Visiting Angels.  Bring your business cards and join in the raffle for a "surprise gift."  Refreshments will be provided by Amazing Grace Catering & Events.
X-ALT-DESC;FMTTYPE=text/html:Come and join us for a ribbon cutting as we welcome Visiting Angels.&nbsp\; Bring your business cards and join in the raffle for a &quot\;surprise gift.&quot\;&nbsp\; Refreshments will be provided by Amazing Grace Catering &amp\; Events.
LOCATION:294 Hwy 515 at the Hillcrest Plaza
UID:e.256.40423
SEQUENCE:3
DTSTAMP:20260423T151132Z
URL:https://members.visitblairsvillega.com/events/details/ribbon-cutting-for-visiting-angels-07-28-2015-40423
END:VEVENT

END:VCALENDAR
