BEGIN:VCALENDAR
VERSION:2.0
PRODID:-//ChamberMaster//Event Calendar 2.0//EN
METHOD:PUBLISH
X-PUBLISHED-TTL:P3D
REFRESH-INTERVAL:P3D
CALSCALE:GREGORIAN
BEGIN:VEVENT
DTSTART:20170412T143000Z
DTEND:20170412T153000Z
X-MICROSOFT-CDO-ALLDAYEVENT:FALSE
SUMMARY:Ribbon Cutting for Wet N' Wild Car Wash
DESCRIPTION:Everyone is invited to attend a ribbon cutting for Wet N' Wild Car Wash as we celebrate its recent expansion!!
X-ALT-DESC;FMTTYPE=text/html:Everyone is invited to attend a ribbon cutting for Wet N&#39\; Wild Car Wash as we celebrate its recent expansion!!
LOCATION:Wet N' Wild Car Wash 692 Hwy 515\, East Blairsville\, GA 30512
UID:e.256.71417
SEQUENCE:3
DTSTAMP:20260420T024358Z
URL:https://members.visitblairsvillega.com/events/details/ribbon-cutting-for-wet-n-wild-car-wash-71417
END:VEVENT

END:VCALENDAR
