BEGIN:VCALENDAR
VERSION:2.0
PRODID:-//ChamberMaster//Event Calendar 2.0//EN
METHOD:PUBLISH
X-PUBLISHED-TTL:P3D
REFRESH-INTERVAL:P3D
CALSCALE:GREGORIAN
BEGIN:VEVENT
DTSTART:20160602T140000Z
DTEND:20160602T150000Z
X-MICROSOFT-CDO-ALLDAYEVENT:FALSE
SUMMARY:Ribbon Cutting for Whole Health\, LLC
DESCRIPTION:Sandra Baughman\, owner of Whole Health\, LLC\, will be holding a ribbon cutting and everyone is invited.  Her holistic healthcare facility offers services such as professional massage therapy\, acupuncture\, and energy medicine.
X-ALT-DESC;FMTTYPE=text/html:Sandra Baughman\, owner of Whole Health\, LLC\, will be holding a ribbon cutting and everyone is invited.&nbsp\;&nbsp\;Her holistic healthcare facility offers services such as professional massage therapy\, acupuncture\, and energy medicine.
LOCATION:47 Commerce Drive\, 1-B Blairsville\, GA 30512
UID:e.256.51058
SEQUENCE:3
DTSTAMP:20260420T204242Z
URL:https://members.visitblairsvillega.com/events/details/ribbon-cutting-for-whole-health-llc-06-02-2016-51058
END:VEVENT

END:VCALENDAR
