BEGIN:VCALENDAR
VERSION:2.0
PRODID:-//ChamberMaster//Event Calendar 2.0//EN
METHOD:PUBLISH
X-PUBLISHED-TTL:P3D
REFRESH-INTERVAL:P3D
CALSCALE:GREGORIAN
BEGIN:VEVENT
DTSTART:20170814T180000Z
DTEND:20170814T190000Z
X-MICROSOFT-CDO-ALLDAYEVENT:FALSE
SUMMARY:Ribbon Cutting for Woody Gap School Playground
DESCRIPTION:Union County and the Board of Education partnered to purchase and install a new playground for Woody Gap School in Suches\, Georgia.  The new playground and equipment will be open to the public after regular school hours.  The existing walking trail behind the school was also upgraded for the community to enjoy.
X-ALT-DESC;FMTTYPE=text/html:<span style="font-size: medium\;"><span style="font-family: calibri\;">Union County and the Board of Education partnered to purchase and install a new playground for Woody Gap School in Suches\, Georgia.&nbsp\; The new playground and equipment&nbsp\;will be open to the public after regular school hours.&nbsp\; The existing walking trail behind the school was also upgraded for the&nbsp\;community to enjoy.&nbsp\; </span></span><br />\n&nbsp\;
LOCATION:Woody Gap School 2331 State Highway 60 Suches\, GA 30572
UID:e.256.75599
SEQUENCE:3
DTSTAMP:20260419T195447Z
URL:https://members.visitblairsvillega.com/events/details/ribbon-cutting-for-woody-gap-school-playground-75599
END:VEVENT

END:VCALENDAR
