BEGIN:VCALENDAR
VERSION:2.0
PRODID:-//ChamberMaster//Event Calendar 2.0//EN
METHOD:PUBLISH
X-PUBLISHED-TTL:P3D
REFRESH-INTERVAL:P3D
CALSCALE:GREGORIAN
BEGIN:VEVENT
DTSTART:20140909T150000Z
DTEND:20140909T160000Z
X-MICROSOFT-CDO-ALLDAYEVENT:FALSE
SUMMARY:Ribbon Cutting for WUCG Community Radio
DESCRIPTION:You're Invited!\n\nRibbon Cutting for WUCG Community Radio on Tuesday\,September 9th\, 2014 at 11:00am\, the radio statio is located at 531 Mulkey Gap Rd.\n\nDr. Larry Flegle will take us on a tour of his radio station.\n\nRefreshments will be provided.\n\nwww.wucg.org
X-ALT-DESC;FMTTYPE=text/html:You&#39\;re Invited!<br />\nRibbon Cutting for&nbsp\;WUCG Community Radio&nbsp\;on Tuesday\,September 9th\, 2014 at 11:00am\, the radio statio&nbsp\;is&nbsp\;located at 531 Mulkey Gap Rd.<br />\nDr. Larry Flegle will take us on a tour of his radio station.<br />\nRefreshments will be provided.<br />\n<strong>www.wucg.org</strong>
LOCATION:WUCG Community Radio 531 Mulkey Gap Rd Blairsville
UID:e.256.27275
SEQUENCE:3
DTSTAMP:20260424T063227Z
URL:https://members.visitblairsvillega.com/events/details/ribbon-cutting-for-wucg-community-radio-09-09-2014-27275
END:VEVENT

END:VCALENDAR
