BEGIN:VCALENDAR
VERSION:2.0
PRODID:-//ChamberMaster//Event Calendar 2.0//EN
METHOD:PUBLISH
X-PUBLISHED-TTL:P3D
REFRESH-INTERVAL:P3D
CALSCALE:GREGORIAN
BEGIN:VEVENT
DTSTART:20140711T160000Z
DTEND:20140711T170000Z
X-MICROSOFT-CDO-ALLDAYEVENT:FALSE
SUMMARY:Ribbon Cutting for Y.E.S. Electric Inc.
DESCRIPTION:Please join the Chamber of Commerce on Friday\, July 11\, 2014 at 12:00 for a ribbon cutting ceremony for Y.E.S. Electric Inc. at the Union County Community Center\, located at 129 Union County Rec Rd. Come meet our newest member Michael Young.  Bring your business cards for Michael and a chance to win in the door prize drawing.\n\nRefreshments available.
X-ALT-DESC;FMTTYPE=text/html:Please join the Chamber of Commerce on Friday\, July 11\, 2014 at 12:00 for a ribbon cutting ceremony for Y.E.S. Electric Inc. at the Union County Community Center\, located at 129 Union County Rec Rd. Come meet our newest member Michael Young.&nbsp\; Bring your business cards for&nbsp\;Michael and&nbsp\;a chance to win&nbsp\;in the door prize drawing.<br />\nRefreshments available.
LOCATION:Blairsville Union County Chamber of Commerce at the Union County Community Center 129 Union County Rec Rd Blairsville\, GA
UID:e.256.24766
SEQUENCE:3
DTSTAMP:20260424T104256Z
URL:https://members.visitblairsvillega.com/events/details/ribbon-cutting-for-y-e-s-electric-inc-07-11-2014-24766
END:VEVENT

END:VCALENDAR
