BEGIN:VCALENDAR
VERSION:2.0
PRODID:-//ChamberMaster//Event Calendar 2.0//EN
METHOD:PUBLISH
X-PUBLISHED-TTL:P3D
REFRESH-INTERVAL:P3D
CALSCALE:GREGORIAN
BEGIN:VEVENT
DTSTART:20170829T150000Z
DTEND:20170829T160000Z
X-MICROSOFT-CDO-ALLDAYEVENT:FALSE
SUMMARY:Ribbon Cutting for YCO & Associates\, Inc.
DESCRIPTION:A ribbon cutting celebration will be held for YCO & Associates\, Inc.  YCO & Associates has your business covered.  Let them take care of your payroll\, payroll tax filings\, general liability & workers compensation policies!  Everyone is invited to come see their new office and meet the staff.
X-ALT-DESC;FMTTYPE=text/html:<span style="font-size:11pt\;"><span style="font-family:calibri\,sans-serif\;">A ribbon cutting celebration will be held for <em>YCO &amp\; Associates\, Inc. </em>&nbsp\;</span></span><span style="font-size:11pt\;"><span style="font-family:calibri\,sans-serif\;"><span style="color:#1d2129\;">YCO &amp\; Associates has your business covered.&nbsp\; Let them take care of your payroll\, payroll tax filings\, general liability &amp\; workers compensation policies!&nbsp\; </span></span></span><span style="font-size:11pt\;"><span style="font-family:calibri\,sans-serif\;">Everyone is invited to come see their new office and meet the staff.&nbsp\; </span></span>
LOCATION:44 Chevy Drive\, Ste A Blairsville\, GA 30512
UID:e.256.75278
SEQUENCE:3
DTSTAMP:20260419T195239Z
URL:https://members.visitblairsvillega.com/events/details/ribbon-cutting-for-yco-associates-inc-75278
END:VEVENT

END:VCALENDAR
