BEGIN:VCALENDAR
VERSION:2.0
PRODID:-//ChamberMaster//Event Calendar 2.0//EN
METHOD:PUBLISH
X-PUBLISHED-TTL:P3D
REFRESH-INTERVAL:P3D
CALSCALE:GREGORIAN
BEGIN:VEVENT
DTSTART:20140718T140000Z
DTEND:20140718T150000Z
X-MICROSOFT-CDO-ALLDAYEVENT:FALSE
SUMMARY:Ribbon Cutting & Open House for Mountain Top Furniture New "Bear Necessities'
DESCRIPTION:Join the chamber for a ribbon cutting and Open House for Mountain Top Furniture - New ' Bear Necessities' Showroom\, located at 3733 Murphy Hwy ( 3.5 miles north of Blairsville ) on Friday\, July 18\, 2014 at 10:00am. \n\n\n\n15% Off all upstairs merchandise\n\nRefreshments will be provided.\n\n\n\nAdditionally\, they will be having an Open House to follow from 11:00 to 1:00 if anyone wants to drop by.
X-ALT-DESC;FMTTYPE=text/html:Join the chamber for a ribbon cutting and Open House for Mountain Top Furniture - New &#39\; Bear Necessities&#39\; Showroom\, located at 3733 Murphy Hwy ( 3.5 miles north of Blairsville ) on Friday\, July 18\, 2014 at 10:00am.&nbsp\;<br />\n<br />\n15% Off all upstairs merchandise<br />\nRefreshments will be provided.<br />\n<br />\nAdditionally\, they will be having an Open House to follow from 11:00 to 1:00 if anyone wants to drop by.
LOCATION:Mountain Top Furniture - New 'Bear Necessities' Showroom 3733 Murphy Hwy ( 3.5 miles north of Blairsville ) Blairsville
UID:e.256.25352
SEQUENCE:3
DTSTAMP:20260424T092623Z
URL:https://members.visitblairsvillega.com/events/details/ribbon-cutting-open-house-for-mountain-top-furniture-new-bear-necessities-07-18-2014-25352
END:VEVENT

END:VCALENDAR
