BEGIN:VCALENDAR
VERSION:2.0
PRODID:-//ChamberMaster//Event Calendar 2.0//EN
METHOD:PUBLISH
X-PUBLISHED-TTL:P3D
REFRESH-INTERVAL:P3D
CALSCALE:GREGORIAN
BEGIN:VEVENT
DTSTART:20150703T233000Z
DTEND:20150704T013000Z
X-MICROSOFT-CDO-ALLDAYEVENT:FALSE
SUMMARY:Ricky Skaggs
DESCRIPTION:A life full of music is the story of Ricky Skaggs. By age 21\, he was already considered a "recognized master" of one of America's most demanding art forms\, but his career took him in other directions\, catapulting him to popularity and success in the mainstream of country music. His life's path has taken him to various musical genres\, from where it all began in bluegrass music\, to striking out on new musical journeys\, while still leaving his musical roots intact. Ricky is a 14-time Grammy Award winner and continues to do his part to lead the recent revival in Bluegrass music.
X-ALT-DESC;FMTTYPE=text/html:A life full of music is the story of Ricky Skaggs. By age 21\, he was already considered a &quot\;recognized master&quot\; of one of America&#39\;s most demanding art forms\, but his career took him in other directions\, catapulting him to popularity and success in the mainstream of country music. His life&#39\;s path has taken him to various musical genres\, from where it all began in bluegrass music\, to striking out on new musical journeys\, while still leaving his musical roots intact. Ricky is a 14-time Grammy Award winner and continues to do his part to lead the recent revival in Bluegrass music.
LOCATION:Smoky Mountain Center for the Performing Arts 1028 Georgia Road Franklin\, NC 28734
UID:e.256.40405
SEQUENCE:3
DTSTAMP:20260423T150948Z
URL:https://members.visitblairsvillega.com/events/details/ricky-skaggs-07-03-2015-40405
END:VEVENT

END:VCALENDAR
