BEGIN:VCALENDAR
VERSION:2.0
PRODID:-//ChamberMaster//Event Calendar 2.0//EN
METHOD:PUBLISH
X-PUBLISHED-TTL:P3D
REFRESH-INTERVAL:P3D
CALSCALE:GREGORIAN
BEGIN:VEVENT
DTSTART:20141002T200000Z
DTEND:20141002T220000Z
X-MICROSOFT-CDO-ALLDAYEVENT:FALSE
SUMMARY:Robotics Class at ICL
DESCRIPTION:The Towns County High School FTC Robotics team (11 members ) will provide a demonstration of their award winning competition robot.
X-ALT-DESC;FMTTYPE=text/html:<span style="font-family:calibri\,sans-serif\;"><span style="font-size:11.0pt\;">The Towns County High School FTC Robotics team (11 members ) will provide a demonstration of their award winning competition robot. </span></span>
LOCATION:Young Harris College Wilson Lecture Hall in the Goolsby Building
UID:e.256.27526
SEQUENCE:3
DTSTAMP:20260424T061204Z
URL:https://members.visitblairsvillega.com/events/details/robotics-class-at-icl-10-02-2014-27526
END:VEVENT

END:VCALENDAR
