BEGIN:VCALENDAR
VERSION:2.0
PRODID:-//ChamberMaster//Event Calendar 2.0//EN
METHOD:PUBLISH
X-PUBLISHED-TTL:P3D
REFRESH-INTERVAL:P3D
CALSCALE:GREGORIAN
BEGIN:VEVENT
DTSTART:20140525T000000Z
DTEND:20140525T020000Z
X-MICROSOFT-CDO-ALLDAYEVENT:FALSE
SUMMARY:RODEO & Freestyle Motocross
DESCRIPTION:A RODEO event you don't want to miss!! Bar W Rodeo Co's annual Memorial Day Weekend Rodeo at Cutworm's Corral 4637 Downings Creek Rd in Hayesville\, NC. Not only will this event feature some of the top rodeo athletes in the southeast\, but "Cowboy" Kenny Bartram & Matt Buyten will be performing an awesome FREESTYLE MOTOCROSS show. Kenny and Matt are the best in the business\, competing & winning at the X games\, traveling with the Nuclear Cowboyz (Matt)\, NitroCircus Live (Kenny) and more.
X-ALT-DESC;FMTTYPE=text/html:A RODEO event you don&#39\;t want to miss!! Bar W Rodeo Co&#39\;s annual Memorial Day Weekend Rodeo at Cutworm&#39\;s Corral 4637 Downings Creek Rd in Hayesville\, NC. Not only will this event feature some of the top rodeo athletes in the southeast\, but &quot\;Cowboy&quot\; Kenny Bartram &amp\; Matt Buyten will be performing an awesome FREESTYLE MOTOCROSS show. Kenny and Matt are the best in the business\, competing &amp\; winning at the X games\, traveling with the Nuclear Cowboyz (Matt)\, NitroCircus Live (Kenny) and more.
LOCATION:Cutworm's Corral 4637 Downings Creek Rd Hayesville\, NC
UID:e.256.23490
SEQUENCE:3
DTSTAMP:20260424T122300Z
URL:https://members.visitblairsvillega.com/events/details/rodeo-freestyle-motocross-05-24-2014-23490
END:VEVENT

END:VCALENDAR
