BEGIN:VCALENDAR
VERSION:2.0
PRODID:-//ChamberMaster//Event Calendar 2.0//EN
METHOD:PUBLISH
X-PUBLISHED-TTL:P3D
REFRESH-INTERVAL:P3D
CALSCALE:GREGORIAN
BEGIN:VEVENT
DTSTART:20140627T233000Z
DTEND:20140628T020000Z
X-MICROSOFT-CDO-ALLDAYEVENT:FALSE
SUMMARY:Rodgers & Hammerstein's Oklahoma!
DESCRIPTION:Rodgers & Hammerstein's first collaboration remains\, in many ways\, their most innovative\, having set the standards and established the rules of musical theatre still being followed today. Set in a Western Indian territory just after the turn of the century\, the high-spirited rivalry between the local farmers and cowboys provides the colorful background against which Curly\, a handsome cowboy\, and Laurey\, a winsome farm girl\, play out their love story. Although the road to true love never runs smooth\, with these two headstrong romantics holding the reins\, love's journey is as bumpy as a surrey ride down a country road.
X-ALT-DESC;FMTTYPE=text/html:Rodgers &amp\; Hammerstein&#39\;s first collaboration remains\, in many ways\, their most innovative\, having set the standards and established the rules of musical theatre still being followed today. Set in a Western Indian territory just after the turn of the century\, the high-spirited rivalry between the local farmers and cowboys provides the colorful background against which Curly\, a handsome cowboy\, and Laurey\, a winsome farm girl\, play out their love story. Although the road to true love never runs smooth\, with these two headstrong romantics holding the reins\, love&#39\;s journey is as bumpy as a surrey ride down a country road.
LOCATION:Venue: The Smoky Mountain Center for the Performing Arts Venue Address & Contact Info: Mailing Address: Smoky Mountain Center for the Performing Arts 1028 Georgia Road Franklin\, NC 28734
UID:e.256.24618
SEQUENCE:3
DTSTAMP:20260424T105008Z
URL:https://members.visitblairsvillega.com/events/details/rodgers-hammerstein-s-oklahoma-06-27-2014-24618
END:VEVENT

END:VCALENDAR
