BEGIN:VCALENDAR
VERSION:2.0
PRODID:-//ChamberMaster//Event Calendar 2.0//EN
METHOD:PUBLISH
X-PUBLISHED-TTL:P3D
REFRESH-INTERVAL:P3D
CALSCALE:GREGORIAN
BEGIN:VEVENT
DTSTART:20151114T000000Z
DTEND:20151114T020000Z
X-MICROSOFT-CDO-ALLDAYEVENT:FALSE
SUMMARY:Rollins Planetarium Presents "Zula Patrol" and "Skies Over Georgia"
DESCRIPTION:Bring your family and friends and take a rollercoaster ride across the universe with the lovable\, wacky cast of alien characters from the award-winning TV series\, The Zula Patrol\, while learning about astronomy and weather. Ride along with the Zula Patrol as they try to save the solar system's weather from interplanetary villain Dark Truder.\n\n \n\nAfter returning from your space mission with the Zula Patrol\, bring it back home with "Skies Over Georgia\," which features a live presenter and uses the planetarium's digital and optical star projectors to their fullest. This traditional star show allows audiences to explore the heavens as they appear above the mountains of North Georgia. Learn how to identify the planets and stars currently visible in the night sky\, take a guided tour of the constellations and hear some of their fascinating stories.
X-ALT-DESC;FMTTYPE=text/html:<span style="font-size: 10pt\;"><span style="font-family: arial\,sans-serif\;">Bring your family and friends and take a rollercoaster ride across the universe with the lovable\, wacky cast of alien characters from the award-winning TV series\, The Zula Patrol\, while learning about astronomy and weather. Ride along with the Zula Patrol as they try to save the solar system&rsquo\;s weather from interplanetary villain Dark Truder.</span></span><br />\n&nbsp\;<br />\n<span style="font-size: 10pt\;"><span style="font-family: arial\,sans-serif\;">After returning from your space mission with the Zula Patrol\, bring it back home with &ldquo\;Skies Over Georgia\,&rdquo\; which features a live presenter and uses the planetarium&rsquo\;s digital and optical star projectors to their fullest. This traditional star show allows audiences to explore the heavens as they appear above the mountains of North Georgia. Learn how to identify the planets and stars currently visible in the night sky\, take a guided tour of the constellations and hear some of their fascinating stories.</span></span><br />\n&nbsp\;
LOCATION:O. Wayne Rollins Planetarium Rollins Planetarium is located in the Maxwell Center on the YHC campus in Young Harris Georgia
UID:e.256.44421
SEQUENCE:3
DTSTAMP:20260423T085944Z
URL:https://members.visitblairsvillega.com/events/details/rollins-planetarium-presents-zula-patrol-and-skies-over-georgia-11-13-2015-44421
END:VEVENT

END:VCALENDAR
