BEGIN:VCALENDAR
VERSION:2.0
PRODID:-//ChamberMaster//Event Calendar 2.0//EN
METHOD:PUBLISH
X-PUBLISHED-TTL:P3D
REFRESH-INTERVAL:P3D
CALSCALE:GREGORIAN
BEGIN:VEVENT
DTSTART:20170615T160000Z
DTEND:20170615T170000Z
X-MICROSOFT-CDO-ALLDAYEVENT:FALSE
SUMMARY:Rotary Club of Union County Meeting
DESCRIPTION:We meet Thursdays at 12:00 PM\n\nMeeting at North Georgia Tech beginning July 1st
X-ALT-DESC;FMTTYPE=text/html:<p class="ContentBox"><span style="font-size:14px\;"><span style="font-family: arial\;">We meet Thursdays at 12:00 PM</span></span></p>\n\n<p class="ContentBox"><span style="font-size:14px\;"><span style="font-family: arial\;">Meeting at North Georgia Tech beginning July 1st</span></span></p>\n
LOCATION:North Georgia Technical College - Blairsville Campus
UID:e.256.64150
SEQUENCE:3
DTSTAMP:20260419T233801Z
URL:https://members.visitblairsvillega.com/events/details/rotary-club-of-union-county-meeting-06-15-2017-64150
END:VEVENT

END:VCALENDAR
