BEGIN:VCALENDAR
VERSION:2.0
PRODID:-//ChamberMaster//Event Calendar 2.0//EN
METHOD:PUBLISH
X-PUBLISHED-TTL:P3D
REFRESH-INTERVAL:P3D
CALSCALE:GREGORIAN
BEGIN:VEVENT
DTSTART:20161006T160000Z
DTEND:20161006T170000Z
X-MICROSOFT-CDO-ALLDAYEVENT:FALSE
SUMMARY:Rotary Club of Union County Meeting
DESCRIPTION:We meet Thursdays at 12:00 PM\n\nupstairs meeting room in Southern Bank & Trust\n\n336 Blue Ridge St\n\nBlairsville\, GA 30512
X-ALT-DESC;FMTTYPE=text/html:<p class="ContentBox"><span style="font-size:14px\;"><span style="font-family: arial\;">We meet Thursdays at 12:00 PM</span></span></p>\n\n<p class="ContentBox"><span style="font-size:14px\;"><span style="font-family: arial\;">upstairs meeting room in Southern Bank &amp\; Trust</span></span></p>\n\n<p class="ContentBox"><span style="font-size:14px\;"><span style="font-family: arial\;"><span style="color: black\;">336 Blue Ridge St</span><br />\nBlairsville\, GA 30512</span></span></p>\n
LOCATION:Southern Bank & Trust - Upstairs meeting room 336 Blue Ridge St Blairsville\, GA 30512
UID:e.256.45102
SEQUENCE:3
DTSTAMP:20260420T131756Z
URL:https://members.visitblairsvillega.com/events/details/rotary-club-of-union-county-meeting-10-06-2016-45102
END:VEVENT

END:VCALENDAR
