BEGIN:VCALENDAR
VERSION:2.0
PRODID:-//ChamberMaster//Event Calendar 2.0//EN
METHOD:PUBLISH
X-PUBLISHED-TTL:P3D
REFRESH-INTERVAL:P3D
CALSCALE:GREGORIAN
BEGIN:VEVENT
DTSTART:20171130T170000Z
DTEND:20171130T180000Z
X-MICROSOFT-CDO-ALLDAYEVENT:FALSE
SUMMARY:Rotary Club of Union County Meeting
DESCRIPTION:We meet Thursdays at 12:00 PM\n\nNorth Georgia Technical College - Blairsville Campus (beginning July 1\, 2017)
X-ALT-DESC;FMTTYPE=text/html:<p class="ContentBox"><span style="font-size:14px\;"><span style="font-family: arial\;">We meet Thursdays at 12:00 PM</span></span></p>\n\n<p class="ContentBox"><span style="font-size:14px\;"><span style="font-family: arial\;">North Georgia Technical College - Blairsville Campus (beginning July 1\, 2017)</span></span></p>\n\n<p class="ContentBox">&nbsp\;</p>\n
LOCATION:North Georgia Technical College
UID:e.256.64174
SEQUENCE:3
DTSTAMP:20260419T142221Z
URL:https://members.visitblairsvillega.com/events/details/rotary-club-of-union-county-meeting-11-30-2017-64174
END:VEVENT

END:VCALENDAR
