BEGIN:VCALENDAR
VERSION:2.0
PRODID:-//ChamberMaster//Event Calendar 2.0//EN
METHOD:PUBLISH
X-PUBLISHED-TTL:P3D
REFRESH-INTERVAL:P3D
CALSCALE:GREGORIAN
BEGIN:VEVENT
DTSTART:20141102T140000Z
DTEND:20141102T210000Z
X-MICROSOFT-CDO-ALLDAYEVENT:FALSE
SUMMARY:Royal Alpaca Challenge
DESCRIPTION:Our farm\, Jerae's Unity Alpacas\, as well as several others in the surrounding area will be participating in this event. Also\, other farms from all over the U.S. will be there. This is a halter show where alpacas compete for ribbons and cash prizes. It is FREE to the public!! So come to the Olympic Horse Park in Conyers\, GA for this great event!! For more info\, please call an alpaca farm near you OR call us at 706-889-2185 or 478-278-0147. Hope to see you there!!
X-ALT-DESC;FMTTYPE=text/html:Our farm\, Jerae&#39\;s Unity Alpacas\, as well as several others in the surrounding area will be participating in this event. Also\, other farms from all over the U.S. will be there. This is a halter show where alpacas compete for ribbons and cash prizes. It is FREE to the public!! So come to the Olympic Horse Park in Conyers\, GA for this great event!! For more info\, please call an alpaca farm near you OR call us at 706-889-2185 or 478-278-0147. Hope to see you there!!
LOCATION:Olympic Horse Park in Conyers\, GA
UID:e.256.27678
SEQUENCE:3
DTSTAMP:20260424T033444Z
URL:https://members.visitblairsvillega.com/events/details/royal-alpaca-challenge-11-02-2014-27678
END:VEVENT

END:VCALENDAR
