BEGIN:VCALENDAR
VERSION:2.0
PRODID:-//ChamberMaster//Event Calendar 2.0//EN
METHOD:PUBLISH
X-PUBLISHED-TTL:P3D
REFRESH-INTERVAL:P3D
CALSCALE:GREGORIAN
BEGIN:VEVENT
DTSTART:20151114T130000Z
DTEND:20151114T170000Z
X-MICROSOFT-CDO-ALLDAYEVENT:FALSE
SUMMARY:Run for Recovery Blairsville GA
DESCRIPTION:The first Run for Recovery 5K takes place at the beautiful Meeks Park in Blairsville\, Georgia\, during the peak of fall. Located in the picturesque North Georgia Mountains\, your 5K journey will present an experience of breathtaking art by God's nature and man's handiwork.  Beyond the personal race for victory\, your participation will support the fight against drug addiction.  Come help us celebrate the drug free life!\n\nEvent details and schedule:\n\n\n	You may register online at Active.com under Run for Recovery Blairsville GA for $25/Late registration is $35.\n	We will begin registration at 8:00 am and the race will begin at 9:00 am.\n	The course will start at the end pavillion of Meeks Park\, and will be signified by a sign. \n	There is an abundance of parking throughout the park.\n	Please make sure all waivers have been signed\, and bring a picture ID.\n	The weather is never totally predictable\, but we will race rain or shine!  Please dress accordingly.
X-ALT-DESC;FMTTYPE=text/html:<p>The&nbsp\;first Run for Recovery 5K&nbsp\;takes place at the beautiful Meeks Park in Blairsville\, Georgia\, during the peak of fall.&nbsp\;Located in the&nbsp\;picturesque North Georgia Mountains\, your 5K journey will present an experience of breathtaking art&nbsp\;by God&#39\;s&nbsp\;nature and man&#39\;s handiwork. &nbsp\;Beyond the personal race for victory\, your participation will support the fight against drug addiction.&nbsp\; Come help us celebrate the drug free life!</p>\n\n<h4>Event details and schedule:</h4>\n\n<ul>\n	<li>You may register online at Active.com under Run for Recovery Blairsville GA for $25/Late registration is $35.</li>\n	<li>We will begin registration at 8:00 am and the race will begin at 9:00 am.</li>\n	<li>The course will start at the end pavillion of Meeks Park\, and will be signified by a sign.&nbsp\;</li>\n	<li>There is an abundance of parking throughout the park.</li>\n	<li>Please make sure all waivers have been signed\, and bring a picture ID.</li>\n	<li>The weather is never totally predictable\, but we will race rain or shine!&nbsp\; Please dress accordingly.</li>\n</ul>\n
LOCATION:Meeks Park Blairsville
UID:e.256.44333
SEQUENCE:3
DTSTAMP:20260423T085649Z
URL:https://members.visitblairsvillega.com/events/details/run-for-recovery-blairsville-ga-11-14-2015-44333
END:VEVENT

END:VCALENDAR
