BEGIN:VCALENDAR
VERSION:2.0
PRODID:-//ChamberMaster//Event Calendar 2.0//EN
METHOD:PUBLISH
X-PUBLISHED-TTL:P3D
REFRESH-INTERVAL:P3D
CALSCALE:GREGORIAN
BEGIN:VEVENT
DTSTART:20151003T110000Z
DTEND:20151003T160000Z
X-MICROSOFT-CDO-ALLDAYEVENT:FALSE
SUMMARY:Run With the Realtors 5K & 10K
DESCRIPTION:Saturday\, October 3\, 2015\n\nRegistration Opens at 7:00 AM\n\n5K Race Starts at 8:00 AM\n\n10K Race Starts at 8:45 AM
X-ALT-DESC;FMTTYPE=text/html:Saturday\, October 3\, 2015<br />\nRegistration Opens at 7:00 AM<br />\n5K Race Starts at 8:00 AM<br />\n10K Race Starts at 8:45 AM
LOCATION:Meeks Park 490 Meeks Park Road Blairsville GA 30512
UID:e.256.41374
SEQUENCE:3
DTSTAMP:20260423T102944Z
URL:https://members.visitblairsvillega.com/events/details/run-with-the-realtors-5k-10k-10-03-2015-41374
END:VEVENT

END:VCALENDAR
