BEGIN:VCALENDAR
VERSION:2.0
PRODID:-//ChamberMaster//Event Calendar 2.0//EN
METHOD:PUBLISH
X-PUBLISHED-TTL:P3D
REFRESH-INTERVAL:P3D
CALSCALE:GREGORIAN
BEGIN:VEVENT
DTSTART:20160827T233000Z
DTEND:20160828T013000Z
X-MICROSOFT-CDO-ALLDAYEVENT:FALSE
SUMMARY:Russell Moore & iiird Tyme Out with the Church Sisters
DESCRIPTION:Russell Moore & IIIrd Tyme Out have endured. In the process\, they've managed to climb to the top not just once\, but twicewinning a slew of IBMA vocal awards\, including two Male Vocalist of the Year honors\, in the mid and late 1990s\, then persevering through rough times to see Moore recapturing the Male Vocalist trophy for the past three years. The Church Sisters\, Sarah and Savannah Church\, began their musical career in March of 2007 after winning the WAKG Rising Stars talent competition. The pair have met and performed with prestigious names such as Rhonda Vincent\, Brandon Heath\, Carl Jackson\, Larry Cordle\, Jerry Salley\, and Tony Rice. In addition to many stage shows\, The Church Sisters have also appeared on the popular RFD T.V shows "The Joey and Rory Show"\, "Larry's Country Diner" and "Country's Family Reunion."
X-ALT-DESC;FMTTYPE=text/html:Russell Moore &amp\; IIIrd Tyme Out have endured. In the process\, they&#39\;ve managed to climb to the top not just once\, but twicewinning a slew of IBMA vocal awards\, including two Male Vocalist of the Year honors\, in the mid and late 1990s\, then persevering through rough times to see Moore recapturing the Male Vocalist trophy for the past three years. The Church Sisters\, Sarah and Savannah Church\, began their musical career in March of 2007 after winning the WAKG Rising Stars talent competition. The pair have met and performed with prestigious names such as Rhonda Vincent\, Brandon Heath\, Carl Jackson\, Larry Cordle\, Jerry Salley\, and Tony Rice. In addition to many stage shows\, The Church Sisters have also appeared on the popular RFD T.V shows &quot\;The Joey and Rory Show&quot\;\, &quot\;Larry&#39\;s Country Diner&quot\; and &quot\;Country&#39\;s Family Reunion.&quot\;
LOCATION:Smoky Mountain Center for the Performing Arts 1028 Georgia Road Franklin\, NC 28734
UID:e.256.49403
SEQUENCE:3
DTSTAMP:20260420T165243Z
URL:https://members.visitblairsvillega.com/events/details/russell-moore-iiird-tyme-out-with-the-church-sisters-08-27-2016-49403
END:VEVENT

END:VCALENDAR
