BEGIN:VCALENDAR
VERSION:2.0
PRODID:-//ChamberMaster//Event Calendar 2.0//EN
METHOD:PUBLISH
X-PUBLISHED-TTL:P3D
REFRESH-INTERVAL:P3D
CALSCALE:GREGORIAN
BEGIN:VEVENT
DTSTART:20171217T003000Z
DTEND:20171217T023000Z
X-MICROSOFT-CDO-ALLDAYEVENT:FALSE
SUMMARY:Russo & Noe Present A RAT PACK Christmas
DESCRIPTION:
X-ALT-DESC;FMTTYPE=text/html:
LOCATION:BLUE RIDGE THEATER
UID:e.256.77100
SEQUENCE:3
DTSTAMP:20260419T120937Z
URL:https://members.visitblairsvillega.com/events/details/russo-noe-present-a-rat-pack-christmas-77100
END:VEVENT

END:VCALENDAR
