BEGIN:VCALENDAR
VERSION:2.0
PRODID:-//ChamberMaster//Event Calendar 2.0//EN
METHOD:PUBLISH
X-PUBLISHED-TTL:P3D
REFRESH-INTERVAL:P3D
CALSCALE:GREGORIAN
BEGIN:VEVENT
DTSTART:20170920T213000Z
DTEND:20170921T003000Z
X-MICROSOFT-CDO-ALLDAYEVENT:FALSE
SUMMARY:Rustic Mountain Decor's 1-year Anniversary Celebration!
DESCRIPTION:You are invited to join us for our 1-Year Anniversary Celebration!\n\n \n\nCelebrating with special savings throughout the store of 10-20%!\n\n\n\nIn Appreciation for your business and friendship supporting our first year in business..\n\n*Light Appetizers & Drinks Provided
X-ALT-DESC;FMTTYPE=text/html:<div style="text-align:center"><span style="font-size:14px"><span style="font-family:comic sans ms"><span style="font-size:16px">You are invited to join us for our 1-Year Anniversary Celebration!</span></span></span><br />\n&nbsp\;</div>\n\n<div style="text-align:center"><span style="font-size:14px"><span style="font-family:comic sans ms"><span style="font-size:16px">Celebrating with special savings throughout the store of 10-20%!<br />\n<br />\nIn Appreciation for your business and friendship supporting our first year in business..<br />\n*Light Appetizers &amp\; Drinks Provided</span></span></span></div>\n
LOCATION:294 Hwy. 515/76 Blairsville\, GA 30512
UID:e.256.76027
SEQUENCE:3
DTSTAMP:20260419T175241Z
URL:https://members.visitblairsvillega.com/events/details/rustic-mountain-decor-s-1-year-anniversary-celebration-76027
END:VEVENT

END:VCALENDAR
