BEGIN:VCALENDAR
VERSION:2.0
PRODID:-//ChamberMaster//Event Calendar 2.0//EN
METHOD:PUBLISH
X-PUBLISHED-TTL:P3D
REFRESH-INTERVAL:P3D
CALSCALE:GREGORIAN
BEGIN:VEVENT
DTSTART:20141014T140000Z
DTEND:20141014T210000Z
X-MICROSOFT-CDO-ALLDAYEVENT:FALSE
SUMMARY:S.A.F.E. 25 year Anniversary Sale
DESCRIPTION:Join us in celebrating 25 years of service to Towns & Union counties. Our Blairsville thrift store will have free hot dogs from 11-1:00pm\, and super sales all day long! 20% off furniture and boutique items. 50% off everything else in the store! Our Young Harris location will be celebrating on Oct. 17th
X-ALT-DESC;FMTTYPE=text/html:Join us in celebrating 25 years of service to Towns &amp\; Union counties. Our Blairsville thrift store will have free hot dogs from 11-1:00pm\, and super sales all day long! 20% off furniture and boutique items. 50% off everything else in the store! Our Young Harris location will be celebrating on Oct. 17th
LOCATION:Victoria's Center 3196 Hwy 515 Blairsville
UID:e.256.27409
SEQUENCE:3
DTSTAMP:20260424T045511Z
URL:https://members.visitblairsvillega.com/events/details/s-a-f-e-25-year-anniversary-sale-10-14-2014-27409
END:VEVENT

END:VCALENDAR
