BEGIN:VCALENDAR
VERSION:2.0
PRODID:-//ChamberMaster//Event Calendar 2.0//EN
METHOD:PUBLISH
X-PUBLISHED-TTL:P3D
REFRESH-INTERVAL:P3D
CALSCALE:GREGORIAN
BEGIN:VEVENT
DTSTART:20141017T140000Z
DTEND:20141017T210000Z
X-MICROSOFT-CDO-ALLDAYEVENT:FALSE
SUMMARY:S.A.F.E. 25 year Anniversary Sale
DESCRIPTION:Join us in celebrating 25 years of serving Towns & Union counties with S.A.F.E.! Free hot dogs from 11-1pm\, and sales ALL day long! 20% off furniture and the Boutique. 50% off everything else in the store! This is the Young Harris location. Blairsville location will be on October 14th.
X-ALT-DESC;FMTTYPE=text/html:Join us in celebrating 25 years of serving Towns &amp\; Union counties with S.A.F.E.! Free hot dogs from 11-1pm\, and sales ALL day long! 20% off furniture and the Boutique. 50% off everything else in the store! This is the Young Harris location. Blairsville location will be on October 14th.
LOCATION:4134 Bonny Hills Drive Young Harris
UID:e.256.27410
SEQUENCE:3
DTSTAMP:20260424T045504Z
URL:https://members.visitblairsvillega.com/events/details/s-a-f-e-25-year-anniversary-sale-10-17-2014-27410
END:VEVENT

END:VCALENDAR
