BEGIN:VCALENDAR
VERSION:2.0
PRODID:-//ChamberMaster//Event Calendar 2.0//EN
METHOD:PUBLISH
X-PUBLISHED-TTL:P3D
REFRESH-INTERVAL:P3D
CALSCALE:GREGORIAN
BEGIN:VEVENT
DTSTART:20140405T150000Z
DTEND:20140405T180000Z
X-MICROSOFT-CDO-ALLDAYEVENT:FALSE
SUMMARY:S.A.F.E. Cookout
DESCRIPTION:Join us for a S.A.F.E. cook-out in honor of Child Abuse Prevention Month\, and Sexual Assault Awareness Month. $3.00 gets you a hot dog\, drink\, potato salad\, or slaw $5.00 for 2 The location is the Bi-Lo shopping center in Blairsville from 11-2pm. We will be handing out shopping list as well for our emergency shelter needs. Bring your donations by from your spring cleaning to load on our thrift store truck. We?ll take it off your hands and give you a tax receipt.
X-ALT-DESC;FMTTYPE=text/html:Join us for a S.A.F.E. cook-out in honor of Child Abuse Prevention Month\, and Sexual Assault Awareness Month. $3.00 gets you a hot dog\, drink\, potato salad\, or slaw $5.00 for 2 The location is the Bi-Lo shopping center in Blairsville from 11-2pm. We will be handing out shopping list as well for our emergency shelter needs. Bring your donations by from your spring cleaning to load on our thrift store truck. We?ll take it off your hands and give you a tax receipt.
LOCATION:Bi Lo in Blairsville\, Ga.
UID:e.256.23605
SEQUENCE:3
DTSTAMP:20260424T133431Z
URL:https://members.visitblairsvillega.com/events/details/s-a-f-e-cookout-04-05-2014-23605
END:VEVENT

END:VCALENDAR
