BEGIN:VCALENDAR
VERSION:2.0
PRODID:-//ChamberMaster//Event Calendar 2.0//EN
METHOD:PUBLISH
X-PUBLISHED-TTL:P3D
REFRESH-INTERVAL:P3D
CALSCALE:GREGORIAN
BEGIN:VEVENT
DTSTART:20170506T210000Z
DTEND:20170506T233000Z
X-MICROSOFT-CDO-ALLDAYEVENT:FALSE
SUMMARY:S.A.F.E.'s 2nd Annual Kentucky Derby Party
DESCRIPTION:Support your local family violence program and shelter by attending S.A.F.E.'s 2nd Annual Kentucky Derby Party! Enjoy a live band\, delicious food\, cash bar\, a silent auction\, raffle prizes (including a 50" SMART big screen TV) and the greatest two minutes in sports.
X-ALT-DESC;FMTTYPE=text/html:Support your local family violence program and shelter by attending S.A.F.E.&#39\;s 2nd Annual Kentucky Derby Party! Enjoy a live band\, delicious food\, cash bar\, a silent auction\, raffle prizes (including a 50&quot\; SMART big screen TV) and the greatest two minutes in sports.&nbsp\;
LOCATION:Union County Community Center
UID:e.256.68423
SEQUENCE:3
DTSTAMP:20260420T024321Z
URL:https://members.visitblairsvillega.com/events/details/s-a-f-e-s-2nd-annual-kentucky-derby-party-68423
END:VEVENT

END:VCALENDAR
