BEGIN:VCALENDAR
VERSION:2.0
PRODID:-//ChamberMaster//Event Calendar 2.0//EN
METHOD:PUBLISH
X-PUBLISHED-TTL:P3D
REFRESH-INTERVAL:P3D
CALSCALE:GREGORIAN
BEGIN:VEVENT
DTSTART:20150424T130000Z
DTEND:20150424T170000Z
X-MICROSOFT-CDO-ALLDAYEVENT:FALSE
SUMMARY:S.A.F.E. Volunteer Training Workshop
DESCRIPTION:Anyone interested in volunteering or already volunteering for S.A.F.E. (Support in Abusive Family Emergencies) is invited to attend this free workshop. Learn all about our services that we provide to our victims of domestic abuse\, child abuse & sexual assault.
X-ALT-DESC;FMTTYPE=text/html:Anyone interested in volunteering or already volunteering for S.A.F.E. (Support in Abusive Family Emergencies) is invited to attend this free workshop. Learn all about our services that we provide to our victims of domestic abuse\, child abuse &amp\; sexual assault.
LOCATION:GA Southern Trust & Bank (Formally Cadence Bank) 361 Blue Ridge St. Upstairs meeting room
UID:e.256.39847
SEQUENCE:3
DTSTAMP:20260423T200043Z
URL:https://members.visitblairsvillega.com/events/details/s-a-f-e-volunteer-training-workshop-04-24-2015-39847
END:VEVENT

END:VCALENDAR
