BEGIN:VCALENDAR
VERSION:2.0
PRODID:-//ChamberMaster//Event Calendar 2.0//EN
METHOD:PUBLISH
X-PUBLISHED-TTL:P3D
REFRESH-INTERVAL:P3D
CALSCALE:GREGORIAN
BEGIN:VEVENT
DTSTART:20161018T140000Z
DTEND:20161112T230000Z
X-MICROSOFT-CDO-ALLDAYEVENT:FALSE
SUMMARY:SAAG National Juried Show
DESCRIPTION:This 8th annual show brings in a variety of artists from across the nation in wide variety of mediums.  View high caliber national and regional artists on display.   $5\,000 in cash prizes awarded.
X-ALT-DESC;FMTTYPE=text/html:<span style="font-size:12pt"><span style="font-family:adobe caslon pro bold\,serif">This 8th annual show brings in a variety of artists from across the nation in wide variety of mediums.&nbsp\; View high caliber national and regional artists on display.&nbsp\;&nbsp\; $5\,000 in cash prizes awarded. </span></span><br />\n&nbsp\;
LOCATION:The Art Center 420 West Main Street Blue Ridge\, GA 30513
UID:e.256.59459
SEQUENCE:3
DTSTAMP:20260420T112620Z
URL:https://members.visitblairsvillega.com/events/details/saag-national-juried-show-59459
END:VEVENT

END:VCALENDAR
