BEGIN:VCALENDAR
VERSION:2.0
PRODID:-//ChamberMaster//Event Calendar 2.0//EN
METHOD:PUBLISH
X-PUBLISHED-TTL:P3D
REFRESH-INTERVAL:P3D
CALSCALE:GREGORIAN
BEGIN:VEVENT
DTSTART:20171007T210000Z
DTEND:20171007T230000Z
X-MICROSOFT-CDO-ALLDAYEVENT:FALSE
SUMMARY:SAAG National Juried Show - Opening Reception
DESCRIPTION:Join us for 8th Annual Southern Appalachian Artist Guild (SAAG) National Juried Show. This show brings in a variety of artists from across the nation in wide variety of mediums.  View high caliber national and regional artists on display as they all vie for the  $5\,000 in cash prizes. Opening reception will be October 7\, 5-7pm.
X-ALT-DESC;FMTTYPE=text/html:<span style="font-size:12pt"><span style="font-family:adobe caslon pro bold\,serif">Join us for 8th Annual Southern Appalachian Artist Guild (SAAG) National Juried Show. This show brings in a variety of artists from across the nation in wide variety of mediums.&nbsp\; View high caliber national and regional artists on display as they all vie for the&nbsp\; $5\,000 in cash prizes. Opening reception will be October 7\, 5-7pm. </span></span><br />\n&nbsp\;
LOCATION:The Art Center 420 West Main Street Blue Ridge\, GA 30513
UID:e.256.75402
SEQUENCE:3
DTSTAMP:20260419T155727Z
URL:https://members.visitblairsvillega.com/events/details/saag-national-juried-show-opening-reception-75402
END:VEVENT

END:VCALENDAR
