BEGIN:VCALENDAR
VERSION:2.0
PRODID:-//ChamberMaster//Event Calendar 2.0//EN
METHOD:PUBLISH
X-PUBLISHED-TTL:P3D
REFRESH-INTERVAL:P3D
CALSCALE:GREGORIAN
BEGIN:VEVENT
DTSTART:20160524T140000Z
DTEND:20160524T220000Z
X-MICROSOFT-CDO-ALLDAYEVENT:FALSE
SUMMARY:SAAG Spring Member Show
DESCRIPTION:Enjoy unforgettable 2D and 3D creations from our very own Southern Appalachian Artist Guild members\, ranging from pottery\, paintings\, photography and more.  Exhibit will be on display inside the Richard Low Evans Gallery. www.southernappalachianartists.org
X-ALT-DESC;FMTTYPE=text/html:<span style="font-size: 12pt\;"><span style="font-family: adobe caslon pro bold\,serif\;">Enjoy unforgettable 2D and 3D creations from our very own Southern Appalachian Artist Guild members\, ranging from pottery\, paintings\, photography and more.&nbsp\; Exhibit will be on display inside the Richard Low Evans Gallery. www.southernappalachianartists.org </span></span><br />\n&nbsp\;
LOCATION:The Art Center (Blue Ridge Mountains Arts Association)
UID:e.256.50819
SEQUENCE:3
DTSTAMP:20260420T222246Z
URL:https://members.visitblairsvillega.com/events/details/saag-spring-member-show-05-24-2016-50819
END:VEVENT

END:VCALENDAR
