BEGIN:VCALENDAR
VERSION:2.0
PRODID:-//ChamberMaster//Event Calendar 2.0//EN
METHOD:PUBLISH
X-PUBLISHED-TTL:P3D
REFRESH-INTERVAL:P3D
CALSCALE:GREGORIAN
BEGIN:VEVENT
DTSTART:20170603T140000Z
DTEND:20170603T150000Z
X-MICROSOFT-CDO-ALLDAYEVENT:FALSE
SUMMARY:Sacred Sound - Saturday
DESCRIPTION:Get your day/weekend off to a beautiful start...\n\nCome lie down in a safe space\, enter into a deep state of relaxation\,\n\nrelease what no longer serves you and feel peace & harmony.
X-ALT-DESC;FMTTYPE=text/html:Get your day/weekend off to a beautiful start...<br />\nCome lie down in a safe space\, enter into a deep state of relaxation\,<br />\nrelease what no longer serves you and feel peace &amp\; harmony.
LOCATION:Facilitator ~ Water Willow Bear\, a small angel dog will greet you at the door. Location: Pam's Back to Nature Health & Wellness Store 294 Hwy 515 West Blairsville\, Ga 30512
UID:e.256.74154
SEQUENCE:3
DTSTAMP:20260420T010040Z
URL:https://members.visitblairsvillega.com/events/details/sacred-sound-saturday-74154
END:VEVENT

END:VCALENDAR
