BEGIN:VCALENDAR
VERSION:2.0
PRODID:-//ChamberMaster//Event Calendar 2.0//EN
METHOD:PUBLISH
X-PUBLISHED-TTL:P3D
REFRESH-INTERVAL:P3D
CALSCALE:GREGORIAN
BEGIN:VEVENT
DTSTART:20160716T230000Z
DTEND:20160717T010000Z
X-MICROSOFT-CDO-ALLDAYEVENT:FALSE
SUMMARY:Safety On and Around the Lake
DESCRIPTION:A public forum open to the public and hosted by the Lake Nottely Improvement Assoc. features representatives of TVA\, GA DNR\, USFS\, and Union County. Issues affecting our community and the lake will be addressed in a Q and A session. County and city development leaders will also address plans including managing growth.
X-ALT-DESC;FMTTYPE=text/html:A public forum open to the public and hosted by the Lake Nottely Improvement Assoc. features representatives of TVA\, GA DNR\, USFS\, and Union County. Issues affecting our community and the lake will be addressed in a Q and A session. County and city development leaders will also address plans including managing growth.
LOCATION:Union County Civic Center Conference Center
UID:e.256.53278
SEQUENCE:3
DTSTAMP:20260420T184231Z
URL:https://members.visitblairsvillega.com/events/details/safety-on-and-around-the-lake-07-16-2016-53278
END:VEVENT

END:VCALENDAR
